BEGIN:VCALENDAR
VERSION:2.0
PRODID:-//Somerset Drainage Boards Consortium - ECPv4.8.2//NONSGML v1.0//EN
CALSCALE:GREGORIAN
METHOD:PUBLISH
X-WR-CALNAME:Somerset Drainage Boards Consortium
X-ORIGINAL-URL:https://somersetdrainageboards.gov.uk
X-WR-CALDESC:Events for Somerset Drainage Boards Consortium
BEGIN:VEVENT
DTSTART;TZID=UTC+0:20210322T143000
DTEND;TZID=UTC+0:20210322T163000
DTSTAMP:20260425T202833
CREATED:20210125T125029Z
LAST-MODIFIED:20210125T125029Z
UID:7207-1616423400-1616430600@somersetdrainageboards.gov.uk
SUMMARY:Parrett Finance & Works
DESCRIPTION:
URL:https://somersetdrainageboards.gov.uk/meeting/parrett-finance-works-2/
CATEGORIES:Meeting,Parrett
END:VEVENT
END:VCALENDAR