BEGIN:VCALENDAR
VERSION:2.0
PRODID:-//Somerset Drainage Boards Consortium - ECPv4.8.2//NONSGML v1.0//EN
CALSCALE:GREGORIAN
METHOD:PUBLISH
X-WR-CALNAME:Somerset Drainage Boards Consortium
X-ORIGINAL-URL:https://somersetdrainageboards.gov.uk
X-WR-CALDESC:Events for Somerset Drainage Boards Consortium
BEGIN:VEVENT
DTSTART;TZID=UTC+0:20210416T103000
DTEND;TZID=UTC+0:20210416T123000
DTSTAMP:20260424T052255
CREATED:20210125T124747Z
LAST-MODIFIED:20210125T124747Z
UID:7199-1618569000-1618576200@somersetdrainageboards.gov.uk
SUMMARY:Axe Brue full Board
DESCRIPTION:
URL:https://somersetdrainageboards.gov.uk/meeting/axe-brue-full-board/
CATEGORIES:Axe Brue,Meeting
END:VEVENT
BEGIN:VEVENT
DTSTART;TZID=UTC+0:20210416T143000
DTEND;TZID=UTC+0:20210416T163000
DTSTAMP:20260424T052255
CREATED:20210125T125245Z
LAST-MODIFIED:20210125T125245Z
UID:7215-1618583400-1618590600@somersetdrainageboards.gov.uk
SUMMARY:Parrett Full Board
DESCRIPTION:
URL:https://somersetdrainageboards.gov.uk/meeting/parrett-full-board-2/
CATEGORIES:Meeting,Parrett
END:VEVENT
END:VCALENDAR