BEGIN:VCALENDAR
VERSION:2.0
PRODID:-//Somerset Drainage Boards Consortium - ECPv4.8.2//NONSGML v1.0//EN
CALSCALE:GREGORIAN
METHOD:PUBLISH
X-WR-CALNAME:Somerset Drainage Boards Consortium
X-ORIGINAL-URL:https://somersetdrainageboards.gov.uk
X-WR-CALDESC:Events for Somerset Drainage Boards Consortium
BEGIN:VEVENT
DTSTART;TZID=UTC+0:20210419T080000
DTEND;TZID=UTC+0:20210419T170000
DTSTAMP:20260424T002056
CREATED:20210125T125736Z
LAST-MODIFIED:20210125T125736Z
UID:7231-1618819200-1618851600@somersetdrainageboards.gov.uk
SUMMARY:NSLIDB Full Board
DESCRIPTION:Time and Venue to be confirmed \n
URL:https://somersetdrainageboards.gov.uk/meeting/nslidb-full-board-2/
CATEGORIES:Meeting,North Somerset Levels
END:VEVENT
END:VCALENDAR